BEGIN:VCALENDAR
VERSION:2.0
PRODID:-//112.140.176.15//NONSGML kigkonsult.se iCalcreator 2.26.9//
CALSCALE:GREGORIAN
METHOD:PUBLISH
X-FROM-URL:https://caseycardiniarotaract.org.au
X-WR-TIMEZONE:Australia/Melbourne
BEGIN:VTIMEZONE
TZID:Australia/Melbourne
X-LIC-LOCATION:Australia/Melbourne
BEGIN:STANDARD
DTSTART:20200405T030000
TZOFFSETFROM:+1100
TZOFFSETTO:+1000
RDATE:20210404T030000
TZNAME:AEST
END:STANDARD
BEGIN:DAYLIGHT
DTSTART:20191006T020000
TZOFFSETFROM:+1000
TZOFFSETTO:+1100
RDATE:20201004T020000
TZNAME:AEDT
END:DAYLIGHT
END:VTIMEZONE
BEGIN:VEVENT
UID:ai1ec-628@caseycardiniarotaract.org
DTSTAMP:20200228T044649Z
CATEGORIES;LANGUAGE=en-AU:Board Meeting
CONTACT:Club Secretary
DESCRIPTION:<p>Club’s Board Meeting\, chaired by the President. Happens Mon
 thly\, all club members are welcome to attend.</p>
DTSTART;TZID=Australia/Melbourne:20170306T193000
LOCATION:Board Member's House
RRULE:FREQ=MONTHLY;UNTIL=20170604T235959Z;BYDAY=1MO
SEQUENCE:0
SUMMARY:Board Meeting
URL:https://caseycardiniarotaract.org.au/event/old-board-meeting-2/
X-COST-TYPE:free
X-INSTANT-EVENT:1
END:VEVENT
BEGIN:VEVENT
UID:ai1ec-782@caseycardiniarotaract.org.au
DTSTAMP:20200228T044649Z
CATEGORIES;LANGUAGE=en-AU:Board Meeting
CONTACT:Club President\; caseycardiniarotaract@gmail.com
DESCRIPTION:<p>All Board Members are expected to attend our Monthly Board M
 eeting at 7pm\, before our meeting on the 3rd Thursday of the month.</p>\n
 <p>All members are welcome to sit in and watch!</p>
DTSTART;TZID=Australia/Melbourne:20170615T190000
DTEND;TZID=Australia/Melbourne:20170615T193000
LOCATION:Casey Youth Hub @ 52 Webb Street\, Narre Warren VIC 3805
RRULE:FREQ=MONTHLY;BYDAY=1TH
SEQUENCE:0
SUMMARY:Board Meeting
URL:https://caseycardiniarotaract.org.au/event/board-meeting/
X-COST-TYPE:free
END:VEVENT
END:VCALENDAR
