BEGIN:VCALENDAR
VERSION:2.0
PRODID:-//112.140.176.15//NONSGML kigkonsult.se iCalcreator 2.26.9//
CALSCALE:GREGORIAN
METHOD:PUBLISH
X-FROM-URL:https://caseycardiniarotaract.org.au
X-WR-TIMEZONE:Australia/Melbourne
BEGIN:VTIMEZONE
TZID:Australia/Melbourne
X-LIC-LOCATION:Australia/Melbourne
BEGIN:STANDARD
DTSTART:20200405T030000
TZOFFSETFROM:+1100
TZOFFSETTO:+1000
RDATE:20210404T030000
TZNAME:AEST
END:STANDARD
BEGIN:DAYLIGHT
DTSTART:20191006T020000
TZOFFSETFROM:+1000
TZOFFSETTO:+1100
RDATE:20201004T020000
TZNAME:AEDT
END:DAYLIGHT
END:VTIMEZONE
BEGIN:VEVENT
UID:ai1ec-14@caseycardiniarotaract.org
DTSTAMP:20200228T045353Z
CATEGORIES;LANGUAGE=en-AU:Club Meeting
CONTACT:Rachel Caulfield\; 0429484591\; caseycardiniarotaract@gmail.com
DESCRIPTION:
DTSTART;TZID=Australia/Melbourne:20170302T193000
EXDATE;TZID=Australia/Melbourne:20160107T193000
GEO:-38.023866;+145.306632
LOCATION:Casey Youth Hub @ 52 Webb St\, Narre Warren VIC 3805\, Australia
RRULE:FREQ=MONTHLY;UNTIL=20170602T235959Z;BYDAY=1TH
SEQUENCE:0
SUMMARY:Club Meeting
URL:https://caseycardiniarotaract.org.au/event/old-club-meeting-1/
X-COST-TYPE:free
X-INSTANT-EVENT:1
END:VEVENT
BEGIN:VEVENT
UID:ai1ec-16@caseycardiniarotaract.org
DTSTAMP:20200228T045353Z
CATEGORIES;LANGUAGE=en-AU:Club Meeting
CONTACT:Rachel Caulfield\; 0429484591\; caseycardiniarotaract@gmail.com
DESCRIPTION:
DTSTART;TZID=Australia/Melbourne:20170316T193000
EXDATE;TZID=Australia/Melbourne:20151217T193000
EXDATE;TZID=Australia/Melbourne:20160107T193000
GEO:-38.023866;+145.306632
LOCATION:Casey Youth Hub @ 52 Webb St\, Narre Warren VIC 3805\, Australia
RRULE:FREQ=MONTHLY;UNTIL=20170604T235959Z;BYDAY=3TH
SEQUENCE:0
SUMMARY:Club Meeting
URL:https://caseycardiniarotaract.org.au/event/old-club-meeting-3/
X-COST-TYPE:free
X-INSTANT-EVENT:1
END:VEVENT
BEGIN:VEVENT
UID:ai1ec-780@caseycardiniarotaract.org.au
DTSTAMP:20200228T045353Z
CATEGORIES;LANGUAGE=en-AU:Club Meeting
CONTACT:Rachel Caulfield\; 0429484591
DESCRIPTION:<p>Join us for an exciting night with our group’s bimonthly mee
 tup! RSVP <a href='https://caseycardiniarotaract.org.au/contact/'>here</a>
 </p>
DTSTART;TZID=Australia/Melbourne:20170615T200000
EXDATE;TZID=Australia/Melbourne:20170817T200000
LOCATION:Casey Youth Hub @ 52 Webb Street\, Narre Warren\, VIC 3805
RRULE:FREQ=MONTHLY;BYDAY=3TH
SEQUENCE:0
SUMMARY:Club Meetup
URL:https://caseycardiniarotaract.org.au/event/club-meetup-3/
X-COST-TYPE:free
X-INSTANT-EVENT:1
END:VEVENT
BEGIN:VEVENT
UID:ai1ec-779@caseycardiniarotaract.org.au
DTSTAMP:20200228T045353Z
CATEGORIES;LANGUAGE=en-AU:Club Meeting
CONTACT:Rachel Caulfield\; 0429484591
DESCRIPTION:<p>Join us for an exciting night with our group’s bimonthly mee
 tup! RSVP <a href='https://caseycardiniarotaract.org.au/contact/'>here</a>
 </p>
DTSTART;TZID=Australia/Melbourne:20170706T200000
LOCATION:Casey Youth Hub @ 52 Webb Street\, Narre Warren\, VIC 3805
RRULE:FREQ=MONTHLY;BYDAY=1TH
SEQUENCE:0
SUMMARY:Club Meetup
URL:https://caseycardiniarotaract.org.au/event/club-meetup-1/
X-COST-TYPE:free
X-INSTANT-EVENT:1
END:VEVENT
BEGIN:VEVENT
UID:ai1ec-798@caseycardiniarotaract.org.au
DTSTAMP:20200228T045353Z
CATEGORIES;LANGUAGE=en-AU:Club Event\,Club Meeting
CONTACT:Rachel Caulfield\; 0429484591
DESCRIPTION:<p>Join us for an exciting night as we have a joint meeting wit
 h Peninsula Rotaract Club. This won’t be our normal bimonthly meetup\; the
 re will be games\, other activities and time to chat across the night! RSV
 P <a href='https://caseycardiniarotaract.org.au/contact/'>here</a></p>
DTSTART;TZID=Australia/Melbourne:20170817T200000
LOCATION:Casey Youth Hub @ 52 Webb Street\, Narre Warren\, VIC 3805
SEQUENCE:0
SUMMARY:Joint Club Meetup – Aug 2017
URL:https://caseycardiniarotaract.org.au/event/club-meetup-joint/
X-COST-TYPE:free
X-INSTANT-EVENT:1
END:VEVENT
END:VCALENDAR
